Workbook

Sheet Instruction
B2: BCS SUPPLIER CSR QUESTIONNAIRE
B6: Information and Instructions
B8: PURPOSE
B9: Corporate Social Responsibility (CSR)/Sustainability is a management model requiring companies to integrate environmental, social, and governance (ESG) topics into their corporate strategy, operations and supply chain.
B10: Drive Sustainability has a set of common guidelines in automotive industry - outlining expectations for suppliers on key CSR/Sustainability issues including human rights, working conditions, health and safety, environment and business ethics.
B11: This document was developed as a Self-Assessment Tool to indicate and verify supplier compliance on CSR/Sustainability.
B13: ASSESSMENT
B14: Supplier need to conduct the self-assessment, provide evidence required in the checklist, and submit to BCS (new supplier) or BCS supplier portal (existing supplier) as required.
B15: BCS may ask further evidence or review once received the self-assessment questionnaire.
B18: SCORING CRITERIA
B19: The audit uses a simple scoring method "YES" or "NO". YES - Full Compliance NO - No Compliance or Partial Compliance N/A - Not applicable (Only limited Questionnaires)
B21: AUDIT RESULTS
... B41: 4. Inform your BCS- counterparts (Commodity & SQE) once you have successfully uploaded it

Sheet CoverSheet
A1: PUR_CK_CSR Questionnaire_RevB_May2024
A2: BCS Supplier CSR Questionnaire
B5: Supplier: | H5: Supplier contact name:
B7: Plant/Location: | H7: Position:
B9: Address: | H9: Phone:
H11: Email Address:
H13: Fax:
B15: Supplier code:
B17: Commodity:
B20: Summary of CSR results [this area is copied from tab "Score Summary"]
E22: number points | F22: score rating
B23: =ScoreSummary!A14 -> Overall Evaluation Score | E23: =ScoreSummary!G14 -> 0 | F23: =ScoreSummary!H14*100 -> 0
B24: of maximum | E24: =ScoreSummary!F14 -> 72 | F24: 100
B25: =ScoreSummary!A15 -> All Section Meet Minimum Score 60%？ | E25: =ScoreSummary!D15 -> N/A
B26: =ScoreSummary!A16 -> Overall Conformance | E26: =ScoreSummary!D16 -> N/A
B31: Questionnaire completed by
B33: Name: | H33: Job Title:
B34: Email: | H34: Phone:
B36: Completed Date: | H36: Signature/ Digital signature:

Sheet ScoreSummary
A1: PUR_CK_CSR Questionnaire RevB_May2024
A2: BCS Supplier CSR Questionnaire
A4: SUMMARIZED RESULTS
B5: Element | D5: Number questions | F5: Number points | H5: Rating | I5: Rating profile
D6: max. possible | E6: evaluated | F6: max. possible | G6: achieved | H6: %
A7: 1 | B7: =Questionnaire!A2 -> 1.0 Company Management | D7: =IF(Questionnaire!E9="NO",11,13) -> 13 | E7: =IF(Questionnaire!$E$9="NO",(D7-COUNTIF(Questionnaire!E5:E9,"")-COUNTIF(Questionnaire!E12:E17,"")),(D7-COUNTIF(Questionnaire!$E$5:$E$17,""))) -> 0 | F7: =D7*2 -> 26 | G7: =IF(Questionnaire!$E$9="NO",2*(COUNTIF(Questionnaire!E5:E9,"YES")+COUNTIF(Questionnaire!E12:E17,"YES")),2*COUNTIF(Questionnaire!$E$5:$E$17,"YES")) -> 0 | H7: =IF(F7=0,0,(G7/F7)) -> 0
A8: 2 | B8: =Questionnaire!A18 -> 2.0 Human Rights and Working Conditions | D8: =3 -> 3 | E8: =3-COUNTIF(Questionnaire!$E$21:$E$23,"") -> 0 | F8: =D8*2 -> 6 | G8: =SUM(2*COUNTIF(Questionnaire!$E$21:$E$23,"YES")) -> 0 | H8: =IF(F8=0,0,(G8/F8)) -> 0
A9: 3 | B9: =Questionnaire!A24 -> 3.0 Health and Safety | D9: =3 -> 3 | E9: =3-COUNTIF(Questionnaire!$E$27:$E$29,"") -> 0 | F9: =D9*2 -> 6 | G9: =SUM(2*COUNTIF(Questionnaire!$E$27:$E$29,"YES")) -> 0 | H9: =IF(F9=0,0,(G9/F9)) -> 0
A10: 4 | B10: =Questionnaire!A30 -> 4.0 Business Ethics | D10: =2 -> 2 | E10: =2-COUNTIF(Questionnaire!$E$33:$E$34,"") -> 0 | F10: =D10*2 -> 4 | G10: =SUM(2*COUNTIF(Questionnaire!$E$33:$E$34,"YES")) -> 0 | H10: =IF(F10=0,0,(G10/F10)) -> 0
A11: 5 | B11: =Questionnaire!A35 -> 5.0 Environment | D11: =8 -> 8 | E11: =8-COUNTIF(Questionnaire!$E$38:$E$45,"") -> 0 | F11: =D11*2 -> 16 | G11: =SUM(2*COUNTIF(Questionnaire!$E$38:$E$45,"YES")) -> 0 | H11: =IF(F11=0,0,(G11/F11)) -> 0
A12: 6 | B12: =Questionnaire!A46 -> 6.0 Responsible Supply Chain Management | D12: =4 -> 4 | E12: =4-COUNTIF(Questionnaire!$E$49:$E$52,"") -> 0 | F12: =D12*2 -> 8 | G12: =SUM(2*COUNTIF(Questionnaire!$E$49:$E$52,"YES")) -> 0 | H12: =IF(F12=0,0,(G12/F12)) -> 0
A13: 7 | B13: =Questionnaire!A53 -> 7.0 Responsible Sourcing of Raw Materials | D13: =IF(Questionnaire!E56="N/A",0,3) -> 3 | E13: =3-COUNTIF(Questionnaire!$E$56:$E$58,"") -> 0 | F13: =D13*2 -> 6 | G13: =IF(Questionnaire!E56="N/A",0,SUM(2*COUNTIF(Questionnaire!$E$56:$E$58,"YES"))) -> 0 | H13: =IF(F13=0,"N/A",(G13/F13)) -> 0
A14: Overall Evaluation Score | D14: =SUM(D7:D13) -> 36 | E14: =SUM(E7:E13) -> 0 | F14: =SUM(F7:F13) -> 72 | G14: =SUM(G7:G13) -> 0 | H14: =IF(F14=0,0,(G14/F14)) -> 0
A15: All Section Meet Minimum Score 60%？ | D15: =IF(E14=0,"N/A",IF(IF(D7<>0,(H7>=60%),"1")*IF(D8<>0,(H8>=60%),"1")*IF(D9<>0,(H9>=60%),"1")*IF(D10<>0,(H10>=60%),"1")*IF(D11<>0,(H11>=60%),"1")*IF(D12<>0,(H12>=60%),"1")*IF(D13<>0,(H13>=60%),"1"),"YES","NO")) -> N/A
A16: Overall Conformance | D16: =IF(D15="N/A","N/A",IF((D15="YES")*(H14>=80%),"PASS",IF((D15="YES")*(H14>=60%)*(H14<80%),"CONDITIONAL PASS",IF((D15="YES")*(H14<60%),"FAIL",IF(D15="NO","FAIL"))))) -> N/A
A19: Evaluation of individual section
A20: Result % | D20: Description
A21: 80 - 100 | D21: MEETS REQUIREMENTS
A22: 60 - 79 | D22: MINOR NON-CONFORMANCE(S)
A23: 0 - 59 | D23: MAJOR NON-CONFORMANCE(S)
A25: Overall conformance
A26: Conclusion | D26: Description
A27: PASS | D27: SUPPLIER CSR IS ACCEPTABLE IN LOW RISK.
A28: CONDITIONAL PASS | D28: SUPPLIER CSR IS ACCEPTABLE IN MEDIUM RISK. AN IMPROVEMENT PLAN REQUIRED
A29: FAIL | D29: SUPPLIER CSR IS UNACCEPTABLE IN HIGH RISK. AN IMPROVEMENT PLAN REQUIRED AND FOLLOW UP IN 6MONTHS.

Sheet Questionnaire
A1: BCS SUPPLIER CSR QUESTIONNAIRE
A2: 1.0 Company Management | E2: Assessment Worksheet
A3: No. | B3: Question | E3: Status | F3: Observations
A5: 1.1 | B5: Does your company have a management person responsible for Social Sustainability? | D5: Social sustainability relates to practices that contribute to the quality of life of both employees and communities that could be impacted by the company's operations. | F5: If "YES", please fill in below information Name: Email: Job Title:
A6: 1.2 | B6: Does your company have a management person responsible for Compliance/Business Ethics? | D6: Compliance relates to the principles that guide business conduct in its relations towards its business partners and customers. | F6: If "YES", please fill in below information Name: Email: Job Title:
A7: 1.3 | B7: Does your company have a management person responsible for Environmental Sustainability? | D7: Environmental sustainability relates to practices that contribute to the quality of the environment on a long term basis. | F7: If "YES", please fill in below information Name: Email: Job Title:
A8: 1.4 | B8: Does your company have a management person responsible for monitoring sustainability risks (e.g. a Human Rights Officer)? | D8: Companies benefit significantly from appointing a Human Rights Officer (HRO) or similar title, with the task of monitoring sustainability and/or human rights risks. This task is best performed if kept strictly separate from the everyday ongoing operational due diligence. | F8: If "YES", please fill in below information Name: Email: Job Title:
A9: 1.5 | B9: Does your company publish a Corporate Social Responsibility(CSR)/Sustainability Report? | D9: A CSR/Sustainability report is an organizational report that gives information about economic, environmental, social and ethical performance. | F9: If "YES", please insert report here.
A10: 1.6 | B10: Are human rights elements disclosed in the CSR report? | D10: Description of existing measures that our company has already taken to address human rights risks and a review of the effectiveness of these measures Description of future measures that our company plans to take to manage our human rights risks | F10: N/A only allowed when 1.5 is "NO"
A11: 1.7 | B11: Are environmental elements disclosed in the CSR report? | D11: Description of existing measures that our company has already taken to address environmental risks and a review of the effectiveness of these measures Description of future measures that our company plans to take to manage our environmental risks | F11: N/A only allowed when 1.5 is "NO"
A12: 1.8 | B12: Does your company have a Code of Conduct? | D12: A Code of Conduct is a set of rules outlining the responsibilities or proper practice for an individual (employee) and organization. It should cover social, ethical and environmental aspects. | F12: If "YES", please insert "Code of Conduct" here.
A13: 1.9 | B13: Does your company organize training for your employees on the Code of Conduct? | D13: Code of conduct training should communicate expectations of employees and employers to help a company build and reinforce a lawful and ethical culture.
A14: 1.1 | B14: Does your company have a grievance mechanism or documented complaints procedure established at this location? | D14: A grievance mechanism is a formal, legal or non-legal, complaints process accessible to employees and external stakeholders who have been negatively affected by activities and operations of a company or their employees.
A15: 1.11 | B15: Are all below complaints can be submitted? - Human rights complaints - Environmental complaints - Unethical business practices | D15: Should able to submit all below complaints: - Human rights complaints - Environmental complaints - Unethical business practices
A16: 1.12 | B16: Are the complaints mechanism available to all stakeholder groups? | D16: Outlines who is responsible for the complaints procedure if applicable (there is a complaint body in place which third parties can contact directly or via an external service provider) - Internal Stakeholders (company/non-permanent employees, direct suppliers, service providers etc.) - External Stakeholders (contractors, indirect suppliers, local communities etc.)
A17: 1.13 | B17: Does your company optimize accessibility of the complaints procedure for all the stakeholder groups that are entitled to use it? | D17: Transparence of the complaints procedure is critical to make it effective, training and published documents need to be available to all the stakeholder groups that are entitled to use it - By carrying out training - By different media
A18: 2.0 Human Rights and Working Conditions | E18: Assessment Worksheet
A19: No. | B19: Question | E19: Status | F19: Observations
A21: 2.1 | B21: Does your company have a formal policy covering human rights and working conditions? | D21: A human rights and working conditions policy is a formal document, agreed upon by senior management, that demonstrates a company's commitment to treating employees and wider stakeholders with dignity, fairness and respect. The policy should outline the company's responsibility to respect and protect human rights based on compliance with law and international guidelines.
A22: 2.2 | B22: Does your company organize training for your employees on your human rights and working conditions policy? | D22: Human rights and working conditions training should provide clear instructions to employees on the expectations, policies and procedures relating to human rights and working conditions within the company.
A23: 2.3 | B23: Does your site have a management system in place to manage the human rights and working conditions issues? | D23: Internationally recognized certified human rights and working conditions management system: - SA8000 social management system - RSCI audit certificate (FULL label) | F23: If "YES", please insert certificate here.
A24: 3.0 Health and Safety | E24: Assessment Worksheet
A25: No. | B25: Question | E25: Status | F25: Observations
A27: 3.1 | B27: Does your company have a formal written health and safety policy in place, which complies with local law, industry requirements and international standards? | D27: A health and safety policy should highlight the commitment of management and employees to a healthy and safe workplace with a 'zero accidents' goal. It is the responsibility of management to provide sufficient resources and organization for health and safety and to do regular risk assessment and reporting in order to ensure continuous improvement of the system.
A28: 3.2 | B28: Does your company organize training for your employees on your health and safety policy? | D28: Health and safety training should include the provision of clear instructions to employees on how to ensure they carry out daily tasks safely and without risk of harm to health.
A29: 3.3 | B29: Does your site have a health and safety management system in place? | D29: Internationally recognized certified health and safety management system: - ISO 45001 | F29: If "YES", please insert certificate here.
A30: 4.0 Business Ethics | E30: Assessment Worksheet
A31: No. | B31: Question | E31: Status | F31: Observations
A33: 4.1 | B33: Does your company have a formal policy covering business ethics? | D33: A business ethics policy is a formal document, agreed upon by senior management, that demonstrates a company's commitment to conducting business, in accordance with local laws, in its business and supply chains.
A34: 4.2 | B34: Does your company organize training for your employees on your business ethics policy? | D34: Business ethics training should develop employees' understanding of issues such as bribery, fraud, corruption, privacy and data protection to support, identify and deal appropriately with ethical issues if and when they arise.
A35: 5.0 Environment | E35: Assessment Worksheet
A36: No. | B36: Question | E36: Status | F36: Observations
A38: 5.1 | B38: Does your company have a formal environmental policy, which includes a commitment to legal compliance, continuous measurement and continuous improvements in environmental performance? | D38: An environmental policy shows the company's overall intentions and direction related to its environmental performance. It reflects the company's commitment and is formally expressed by top management. It provides a framework for action, setting environmental objectives which take into account applicable legal and other requirements and the company's environmental impact of its operations, products and services, with the purpose of decreasing the environmental impact, saving resources and costs.
A39: 5.2 | B39: Does this policy cover below topics? - GHG emissions reporting - Energy efficiency - Renewable energy - Decarbonization - Water quality and consumption & management - Air quality - Waste reduction - Noise emissions | D39: These are typical environment policy topics - GHG emissions reporting - Energy efficiency - Renewable energy - Decarbonization - Water quality and consumption & management - Air quality - Waste reduction - Noise emissions
A40: 5.3 | B40: Does your company organize training for your employees on your environmental policy? | D40: Environmental training should provide clear instructions and guidance to employees to ensure they are conducting their daily operations in a way that reduces or mitigates negative environmental impact.
A41: 5.4 | B41: Does your site have an environmental management system in place? | D41: Internationally recognized certified environmental management system: - ISO 14001:2015 - ISO 14064 GHG - PAS2050 Carbon Footprint - PAS2060 Carbon Neutrality - BS8555 Certification: Implementation of environmental management systems - EU Eco-Management and Audit Scheme (EMAS) | F41: If "YES", please insert certificate here.
A42: 5.5 | B42: Does your site have an energy management system? | D42: Internationally recognized certified energy management system: - ISO 50001 | F42: If "YES", please insert certificate here.
A43: 5.6 | B43: Does your company set Greenhouse Gas reduction targets? | D43: Companies may set a variety of GHG reduction targets, including: A single target for all of their emissions (total scope 1 + scope 2 + scope 3 emissions) A single target for their total scope 3 emissions A combination of targets, for example a target for total scope 1 + 2 + 3 emissions as well as targets for individual scope 3 categories.
A44: 5.7 | B44: Does your site use any substances with restrictions under any national or international statutory provision in production or operations? | D44: Restrictions are a tool to protect human health and the environment from unacceptable risks posed by chemicals. Restrictions may limit or ban the manufacture, placing on the market or use of a substance. A restriction applies to any substance on its own, in a mixture or in an article, including those that do not require registration. It can also apply to imports.
A45: 5.8 | B45: Does your site have written procedures to manage substances with restrictions under any regulations? | D45: Regardless of the size of the company, or industry in which it operates, procedures for managing restricted substances must demonstrate adherence to local law and guidelines.
...

Sheet Version History
B2: BCS Supplier CSR Questionnaire
B3: Doc No: | C3: PUR_CK_CSR Questionnaire_RevA_Feb2023
B5: Version History
B6: Version | C6: Date | D6: Description of Change | E6: Compiled/ changed by | F6: Reviewed by | G6: Approved By
B7: A | C7: February/2023 | D7: Initial Release | E7: Jeff Xia | F7: Guido Domke Eva Haegele Martin Maurer | G7: Tobias Volkert
